BEGIN:VCALENDAR
VERSION:2.0
PRODID:-//Scouts de Uruguay - ECPv6.15.17.1//NONSGML v1.0//EN
CALSCALE:GREGORIAN
METHOD:PUBLISH
X-ORIGINAL-URL:https://scouts.org.uy
X-WR-CALDESC:Eventos para Scouts de Uruguay
REFRESH-INTERVAL;VALUE=DURATION:PT1H
X-Robots-Tag:noindex
X-PUBLISHED-TTL:PT1H
BEGIN:VTIMEZONE
TZID:UTC
BEGIN:STANDARD
TZOFFSETFROM:+0000
TZOFFSETTO:+0000
TZNAME:UTC
DTSTART:20250101T000000
END:STANDARD
END:VTIMEZONE
BEGIN:VEVENT
DTSTART;VALUE=DATE:20261010
DTEND;VALUE=DATE:20261013
DTSTAMP:20260425T011635
CREATED:20260307T173004Z
LAST-MODIFIED:20260307T173948Z
UID:5066-1791590400-1791849599@scouts.org.uy
SUMMARY:ENIESC XIV
DESCRIPTION:
URL:https://scouts.org.uy/evento/eniesc-xiv/
CATEGORIES:Todos
END:VEVENT
END:VCALENDAR