BEGIN:VCALENDAR
VERSION:2.0
PRODID:-//Scouts de Uruguay - ECPv6.15.17.1//NONSGML v1.0//EN
CALSCALE:GREGORIAN
METHOD:PUBLISH
X-ORIGINAL-URL:https://scouts.org.uy
X-WR-CALDESC:Eventos para Scouts de Uruguay
REFRESH-INTERVAL;VALUE=DURATION:PT1H
X-Robots-Tag:noindex
X-PUBLISHED-TTL:PT1H
BEGIN:VTIMEZONE
TZID:UTC
BEGIN:STANDARD
TZOFFSETFROM:+0000
TZOFFSETTO:+0000
TZNAME:UTC
DTSTART:20250101T000000
END:STANDARD
END:VTIMEZONE
BEGIN:VEVENT
DTSTART;VALUE=DATE:20261010
DTEND;VALUE=DATE:20261013
DTSTAMP:20260424T201231
CREATED:20260307T173004Z
LAST-MODIFIED:20260307T173948Z
UID:5066-1791590400-1791849599@scouts.org.uy
SUMMARY:ENIESC XIV
DESCRIPTION:
URL:https://scouts.org.uy/evento/eniesc-xiv/
CATEGORIES:Todos
END:VEVENT
BEGIN:VEVENT
DTSTART;VALUE=DATE:20261017
DTEND;VALUE=DATE:20261019
DTSTAMP:20260424T201231
CREATED:20260307T173250Z
LAST-MODIFIED:20260307T173250Z
UID:5068-1792195200-1792367999@scouts.org.uy
SUMMARY:COTA
DESCRIPTION:
URL:https://scouts.org.uy/evento/cota/
CATEGORIES:Dirigentes
END:VEVENT
BEGIN:VEVENT
DTSTART;VALUE=DATE:20261110
DTEND;VALUE=DATE:20261111
DTSTAMP:20260424T201231
CREATED:20260307T173441Z
LAST-MODIFIED:20260307T173441Z
UID:5070-1794268800-1794355199@scouts.org.uy
SUMMARY:Aniversario Nuestra señora del Líbano
DESCRIPTION:
URL:https://scouts.org.uy/evento/aniversario-nuestra-senora-del-libano/
CATEGORIES:Todos
END:VEVENT
BEGIN:VEVENT
DTSTART;VALUE=DATE:20261121
DTEND;VALUE=DATE:20261123
DTSTAMP:20260424T201231
CREATED:20260307T173601Z
LAST-MODIFIED:20260307T173601Z
UID:5072-1795219200-1795391999@scouts.org.uy
SUMMARY:Aniversario Vantraló
DESCRIPTION:
URL:https://scouts.org.uy/evento/aniversario-vantralo/
CATEGORIES:Todos
END:VEVENT
BEGIN:VEVENT
DTSTART;VALUE=DATE:20261206
DTEND;VALUE=DATE:20261207
DTSTAMP:20260424T201231
CREATED:20260307T173705Z
LAST-MODIFIED:20260307T173705Z
UID:5075-1796515200-1796601599@scouts.org.uy
SUMMARY:Asamblea Nacional
DESCRIPTION:
URL:https://scouts.org.uy/evento/asamblea-nacional/
LOCATION:Casa Scout\, Daniel Zorrilla esq McColl\, Montevideo\, Uruguay
CATEGORIES:Dirigentes
END:VEVENT
END:VCALENDAR